BEGIN:VCALENDAR
VERSION:2.0
PRODID:-//Ogndal.net - ECPv6.15.17.1//NONSGML v1.0//EN
CALSCALE:GREGORIAN
METHOD:PUBLISH
X-ORIGINAL-URL:https://ogndal.net
X-WR-CALDESC:Arrangement for Ogndal.net
REFRESH-INTERVAL;VALUE=DURATION:PT1H
X-Robots-Tag:noindex
X-PUBLISHED-TTL:PT1H
BEGIN:VTIMEZONE
TZID:Europe/Oslo
BEGIN:DAYLIGHT
TZOFFSETFROM:+0100
TZOFFSETTO:+0200
TZNAME:CEST
DTSTART:20210328T010000
END:DAYLIGHT
BEGIN:STANDARD
TZOFFSETFROM:+0200
TZOFFSETTO:+0100
TZNAME:CET
DTSTART:20211031T010000
END:STANDARD
BEGIN:DAYLIGHT
TZOFFSETFROM:+0100
TZOFFSETTO:+0200
TZNAME:CEST
DTSTART:20220327T010000
END:DAYLIGHT
BEGIN:STANDARD
TZOFFSETFROM:+0200
TZOFFSETTO:+0100
TZNAME:CET
DTSTART:20221030T010000
END:STANDARD
BEGIN:DAYLIGHT
TZOFFSETFROM:+0100
TZOFFSETTO:+0200
TZNAME:CEST
DTSTART:20230326T010000
END:DAYLIGHT
BEGIN:STANDARD
TZOFFSETFROM:+0200
TZOFFSETTO:+0100
TZNAME:CET
DTSTART:20231029T010000
END:STANDARD
BEGIN:DAYLIGHT
TZOFFSETFROM:+0100
TZOFFSETTO:+0200
TZNAME:CEST
DTSTART:20240331T010000
END:DAYLIGHT
BEGIN:STANDARD
TZOFFSETFROM:+0200
TZOFFSETTO:+0100
TZNAME:CET
DTSTART:20241027T010000
END:STANDARD
BEGIN:DAYLIGHT
TZOFFSETFROM:+0100
TZOFFSETTO:+0200
TZNAME:CEST
DTSTART:20250330T010000
END:DAYLIGHT
BEGIN:STANDARD
TZOFFSETFROM:+0200
TZOFFSETTO:+0100
TZNAME:CET
DTSTART:20251026T010000
END:STANDARD
BEGIN:DAYLIGHT
TZOFFSETFROM:+0100
TZOFFSETTO:+0200
TZNAME:CEST
DTSTART:20260329T010000
END:DAYLIGHT
BEGIN:STANDARD
TZOFFSETFROM:+0200
TZOFFSETTO:+0100
TZNAME:CET
DTSTART:20261025T010000
END:STANDARD
END:VTIMEZONE
BEGIN:VEVENT
DTSTART;TZID=Europe/Oslo:20250928T130000
DTEND;TZID=Europe/Oslo:20250928T160000
DTSTAMP:20260424T124751
CREATED:20250923T175632Z
LAST-MODIFIED:20250926T190644Z
UID:4041-1759064400-1759075200@ogndal.net
SUMMARY:Søndagsmiddag på Bodomheimen - AVLYST
DESCRIPTION:Tid for å publisere middag førstkommende søndag 28.9\nSkal servere en husmannskost som ble vanlig fra 1800 -1900 tallet\,og som ikke er blitt solgt på Bodomheimen \nDato: 28.9.35\nSted: Bodomheimen\nKlokken: 1300 – 1600 \nMeny: Lammefrikase\nPannekaker glutenfritt\nDessert: tilslørte bondepiker \nHørtes dette spennende og godt ut\, så ta turen til Bodomheimen\, nesten øverst i den flotte bygda ❤️\n\n❤️ Velkommen velkommen ❤️
URL:https://ogndal.net/arrangement/sondagsmiddag-pa-bodomheimen-5/
LOCATION:Bodomheimen\, Lustadvegen 6\, Steinkjer\, 7718\, Norge
END:VEVENT
BEGIN:VEVENT
DTSTART;TZID=Europe/Oslo:20250914T130000
DTEND;TZID=Europe/Oslo:20250914T160000
DTSTAMP:20260424T124751
CREATED:20250909T054903Z
LAST-MODIFIED:20250909T054903Z
UID:4025-1757854800-1757865600@ogndal.net
SUMMARY:Søndagsmiddag på Bodomheimen
DESCRIPTION:❤️ VI TAR EN SØNDAGSMIDDAG TIL ❤️👍\nSøndag 14.9\nTid: kl 1300 – 1600\nSted: Bodomheimen vil det bli servert:\nMiddag: Fårikål\n        Pannekaker m/bacon\nDessert:Trollkrem m/vaniljesaus og kaffe.\n        Gratis is til barna  \nTa turen oppover Ogndalen\, se flott natur med begynnende høstfarger.\n🤩 Ønsker dere alle ❤️lig velkommen 🤩
URL:https://ogndal.net/arrangement/sondagsmiddag-pa-bodomheimen-4/
LOCATION:Bodomheimen\, Lustadvegen 6\, Steinkjer\, 7718\, Norge
ATTACH;FMTTYPE=image/jpeg:https://ogndal.net/wp-content/uploads/2021/06/img_2306.jpg
END:VEVENT
BEGIN:VEVENT
DTSTART;TZID=Europe/Oslo:20250912T180000
DTEND;TZID=Europe/Oslo:20250913T100000
DTSTAMP:20260424T124751
CREATED:20250831T194141Z
LAST-MODIFIED:20250831T194242Z
UID:4012-1757700000-1757757600@ogndal.net
SUMMARY:SOVE UTE VED BODOMHEIMEN
DESCRIPTION:SOVE UTE VED BODOMHEIMEN\, fredag 12.september.\nI forbindelse med «Friluftslivets år 2025 og friluftslivets uke»\,\nvil Trimgruppa i Ogndal legge til rette for en spesiell naturopplevelse\, nemlig å sove ute ved vakre Bodomheimen\, perlen ved Lustadvatnet.🤩FREDAG 12. SEPTEMBER\, KL. 18.00.\nHer er det tilgjengelig sanitæranlegg og ellers fine områder\nfor overnatting ute\, enten i telt\, i hengekøye eller til og med under åpen himmel. 🤩\nTa med deg det du trenger for oppholdet!\nVi legger opp til bålkos og satser på en stemningsfull og trivelig kveld. 👍\nMuligheter for grilling!\nBålkaffe serveres både kveld og morgen.\nDu kan også være her på kvelden uten å overnattte.\nNB! VÆRFORBEHOLD!\nArrangør: Trimgruppa\, som består av idrettslaget\, historielaget og bygdekvinnelaget i Ogndal.
URL:https://ogndal.net/arrangement/sove-ute-ved-bodomheimen/
LOCATION:Bodomheimen\, Lustadvegen 6\, Steinkjer\, 7718\, Norge
ATTACH;FMTTYPE=image/jpeg:https://ogndal.net/wp-content/uploads/2025/08/540200764_1081491420824546_1416189572083267677_n.jpg
END:VEVENT
BEGIN:VEVENT
DTSTART;TZID=Europe/Oslo:20250907T130000
DTEND;TZID=Europe/Oslo:20250907T160000
DTSTAMP:20260424T124751
CREATED:20250905T191518Z
LAST-MODIFIED:20250905T191518Z
UID:4023-1757250000-1757260800@ogndal.net
SUMMARY:Søndagsmiddag på Bodomheimen
DESCRIPTION:😀HUSK SØNDAGSMIDDAG 😀\nVi gleder oss til å se deg 😘 en dag med kanskje nye opplevelser og nye bekjentskaper hvem vet 😘 vi skal gjøre vårt beste ❤️\nSØNDAG 07.09.25 KL 1300 – 1600 \nSalg av:\nMiddag:\nSaltkjøtt og kålstappe (rotgraut) 😀\nDessert:\nAppelsin gele m/vaniljesaus + kaffe.\nSalg av pannekaker til barn. Også glutenfri\nGratis is til barna.\nVELKOMMEN TIL OGNDAL’S  PERLEN BODOMHEIMEN ØVERST I BYGDEN ❤️
URL:https://ogndal.net/arrangement/sondagsmiddag-pa-bodomheimen-3/
LOCATION:Bodomheimen\, Lustadvegen 6\, Steinkjer\, 7718\, Norge
END:VEVENT
BEGIN:VEVENT
DTSTART;TZID=Europe/Oslo:20250831T130000
DTEND;TZID=Europe/Oslo:20250831T170000
DTSTAMP:20260424T124751
CREATED:20250824T065338Z
LAST-MODIFIED:20250824T065338Z
UID:4004-1756645200-1756659600@ogndal.net
SUMMARY:Middagssalg på Bodomheimen
DESCRIPTION:
URL:https://ogndal.net/arrangement/middagssalg-pa-bodomheimen/
LOCATION:Bodomheimen\, Lustadvegen 6\, Steinkjer\, 7718\, Norge
END:VEVENT
BEGIN:VEVENT
DTSTART;TZID=Europe/Oslo:20250514T180000
DTEND;TZID=Europe/Oslo:20250514T190000
DTSTAMP:20260424T124751
CREATED:20250501T081150Z
LAST-MODIFIED:20250501T081150Z
UID:3930-1747245600-1747249200@ogndal.net
SUMMARY:Årmøte 2025 Bodomheimen
DESCRIPTION:Tradisjonelle årsmøtesaker.
URL:https://ogndal.net/arrangement/armote-2025-bodomheimen/
LOCATION:Bodomheimen\, Lustadvegen 6\, Steinkjer\, 7718\, Norge
END:VEVENT
BEGIN:VEVENT
DTSTART;TZID=Europe/Oslo:20240929T130000
DTEND;TZID=Europe/Oslo:20240929T160000
DTSTAMP:20260424T124751
CREATED:20240820T191606Z
LAST-MODIFIED:20240820T191606Z
UID:3504-1727614800-1727625600@ogndal.net
SUMMARY:Søndagsmiddag Bodomheimen
DESCRIPTION:Bodomheimen inviterer til søndagsmiddager på “heimen”! \nHver søndag Kl. 13:00 – 16:00 ut september blir det salg av middag på Bodomheimen.\nDet er alltid dessert inklusive i prisen. \nBetaling med Vipps eller kontanter. \nMenyen blir ukentlig presentert på Bodoheimen sin Facebook-side. \nBodomheimen ønsker store\, små\, gamle og nye gjester velkommen!
URL:https://ogndal.net/arrangement/sondagsmiddag-bodomheimen-3/2024-09-29/
LOCATION:Bodomheimen\, Lustadvegen 6\, Steinkjer\, 7718\, Norge
END:VEVENT
BEGIN:VEVENT
DTSTART;TZID=Europe/Oslo:20240922T130000
DTEND;TZID=Europe/Oslo:20240922T160000
DTSTAMP:20260424T124751
CREATED:20240820T191606Z
LAST-MODIFIED:20240820T191606Z
UID:3503-1727010000-1727020800@ogndal.net
SUMMARY:Søndagsmiddag Bodomheimen
DESCRIPTION:Bodomheimen inviterer til søndagsmiddager på “heimen”! \nHver søndag Kl. 13:00 – 16:00 ut september blir det salg av middag på Bodomheimen.\nDet er alltid dessert inklusive i prisen. \nBetaling med Vipps eller kontanter. \nMenyen blir ukentlig presentert på Bodoheimen sin Facebook-side. \nBodomheimen ønsker store\, små\, gamle og nye gjester velkommen!
URL:https://ogndal.net/arrangement/sondagsmiddag-bodomheimen-3/2024-09-22/
LOCATION:Bodomheimen\, Lustadvegen 6\, Steinkjer\, 7718\, Norge
END:VEVENT
BEGIN:VEVENT
DTSTART;TZID=Europe/Oslo:20240915T130000
DTEND;TZID=Europe/Oslo:20240915T160000
DTSTAMP:20260424T124751
CREATED:20240820T191606Z
LAST-MODIFIED:20240910T071350Z
UID:3502-1726405200-1726416000@ogndal.net
SUMMARY:Søndagsmiddag Bodomheimen
DESCRIPTION:Bodomheimen inviterer til søndagsmiddager på “heimen”! \nMiddag: Klubb og duppe\nAlternativ til barna: Pannekaker\nDessert: Tilslørte bondepiker \nKaffe og kake.\nIs til barna. \nTa søndagsturen til vakre Bodomheimen for å nyte tradisjonsmat og plassen i seg selv! \nVelkommen skal dere være\, fra Kl. 13-16.
URL:https://ogndal.net/arrangement/sondagsmiddag-bodomheimen-3-2024-09-15/
LOCATION:Bodomheimen\, Lustadvegen 6\, Steinkjer\, 7718\, Norge
ATTACH;FMTTYPE=image/jpeg:https://ogndal.net/wp-content/uploads/2022/08/69676866_2355524048055769_8846567164337979392_n-e1660581464822.jpg
END:VEVENT
BEGIN:VEVENT
DTSTART;TZID=Europe/Oslo:20240908T130000
DTEND;TZID=Europe/Oslo:20240908T160000
DTSTAMP:20260424T124751
CREATED:20240820T191606Z
LAST-MODIFIED:20240910T071137Z
UID:3501-1725800400-1725811200@ogndal.net
SUMMARY:Søndagsmiddag Bodomheimen
DESCRIPTION:Bodomheimen inviterer til søndagsmiddager på “heimen”! \nMiddag: Klubb og duppe\nAlternativ til barna: Pannekaker\nDessert: Tilslørte bondepiker \nKaffe og kake.\nIs til barna. \nTa søndagsturen til vakre Bodomheimen for å nyte tradisjonsmat og plassen i seg selv! \nVelkommen skal dere være\, fra Kl. 13-16.
URL:https://ogndal.net/arrangement/sondagsmiddag-bodomheimen-3-2024-09-08/
LOCATION:Bodomheimen\, Lustadvegen 6\, Steinkjer\, 7718\, Norge
ATTACH;FMTTYPE=image/jpeg:https://ogndal.net/wp-content/uploads/2021/09/klubb-og-duppe-trond-robert-engan.jpg
END:VEVENT
BEGIN:VEVENT
DTSTART;TZID=Europe/Oslo:20240901T130000
DTEND;TZID=Europe/Oslo:20240901T160000
DTSTAMP:20260424T124751
CREATED:20240820T191606Z
LAST-MODIFIED:20240820T191606Z
UID:3500-1725195600-1725206400@ogndal.net
SUMMARY:Søndagsmiddag Bodomheimen
DESCRIPTION:Bodomheimen inviterer til søndagsmiddager på “heimen”! \nHver søndag Kl. 13:00 – 16:00 ut september blir det salg av middag på Bodomheimen.\nDet er alltid dessert inklusive i prisen. \nBetaling med Vipps eller kontanter. \nMenyen blir ukentlig presentert på Bodoheimen sin Facebook-side. \nBodomheimen ønsker store\, små\, gamle og nye gjester velkommen!
URL:https://ogndal.net/arrangement/sondagsmiddag-bodomheimen-3/2024-09-01/
LOCATION:Bodomheimen\, Lustadvegen 6\, Steinkjer\, 7718\, Norge
END:VEVENT
BEGIN:VEVENT
DTSTART;TZID=Europe/Oslo:20240825T130000
DTEND;TZID=Europe/Oslo:20240825T160000
DTSTAMP:20260424T124751
CREATED:20240820T191606Z
LAST-MODIFIED:20240820T191606Z
UID:3499-1724590800-1724601600@ogndal.net
SUMMARY:Søndagsmiddag Bodomheimen
DESCRIPTION:Bodomheimen inviterer til søndagsmiddager på “heimen”! \nHver søndag Kl. 13:00 – 16:00 ut september blir det salg av middag på Bodomheimen.\nDet er alltid dessert inklusive i prisen. \nBetaling med Vipps eller kontanter. \nMenyen blir ukentlig presentert på Bodoheimen sin Facebook-side. \nBodomheimen ønsker store\, små\, gamle og nye gjester velkommen!
URL:https://ogndal.net/arrangement/sondagsmiddag-bodomheimen-3/2024-08-25/
LOCATION:Bodomheimen\, Lustadvegen 6\, Steinkjer\, 7718\, Norge
END:VEVENT
BEGIN:VEVENT
DTSTART;TZID=Europe/Oslo:20240623T130000
DTEND;TZID=Europe/Oslo:20240623T160000
DTSTAMP:20260424T124751
CREATED:20240610T082644Z
LAST-MODIFIED:20240610T082644Z
UID:3470-1719147600-1719158400@ogndal.net
SUMMARY:Sankthans på Bodomheimen
DESCRIPTION:Bodomheimens venneforeningen og Ogndal bygdekvinnelag\, ønsker velkommen til Bodomheimen søndag 23. Juni 24 Kl 13.00 – 16.00\n\nDet vil bli salg av:\nRømmegrøt\nKaffe og kake\n\nVelkommen til alle sammen
URL:https://ogndal.net/arrangement/sankthans-pa-bodomheimen/
LOCATION:Bodomheimen\, Lustadvegen 6\, Steinkjer\, 7718\, Norge
END:VEVENT
BEGIN:VEVENT
DTSTART;TZID=Europe/Oslo:20240506T180000
DTEND;TZID=Europe/Oslo:20240506T200000
DTSTAMP:20260424T124751
CREATED:20240410T112232Z
LAST-MODIFIED:20240410T112232Z
UID:3382-1715018400-1715025600@ogndal.net
SUMMARY:Årsmøte i Stiftelsen og Bodomheimens venner
DESCRIPTION:Det blir avholdt årsmøte i Stiftelsen og Bodomheimens venner;\nMandag 6. Mai kl. 18.00\n\n\nFor å nå flest mulig av medlemmene\, så hadde det vært fint om dere sendte oss deres mailadr.\nKan sendes post@bodomheimen.no eller som messenger til bodomheimen.\nVi ses
URL:https://ogndal.net/arrangement/arsmote-i-stiftelsen-og-bodomheimens-venner/
LOCATION:Bodomheimen\, Lustadvegen 6\, Steinkjer\, 7718\, Norge
END:VEVENT
BEGIN:VEVENT
DTSTART;TZID=Europe/Oslo:20230910T130000
DTEND;TZID=Europe/Oslo:20230910T160000
DTSTAMP:20260424T124751
CREATED:20230904T085456Z
LAST-MODIFIED:20230904T085456Z
UID:3078-1694350800-1694361600@ogndal.net
SUMMARY:Søndagsmiddag på Bodomheimen
DESCRIPTION:Søndagsmiddag på Bodomheimen
URL:https://ogndal.net/arrangement/sondagsmiddag-pa-bodomheimen-2/
LOCATION:Bodomheimen\, Lustadvegen 6\, Steinkjer\, 7718\, Norge
END:VEVENT
BEGIN:VEVENT
DTSTART;TZID=Europe/Oslo:20230827T130000
DTEND;TZID=Europe/Oslo:20230827T170000
DTSTAMP:20260424T124751
CREATED:20230822T160357Z
LAST-MODIFIED:20230822T160357Z
UID:3062-1693141200-1693155600@ogndal.net
SUMMARY:Søndagsmiddag Bodomheimen
DESCRIPTION:Hjertelig velkommen til søndagsmiddag på Bodomheimen 27. August!!! \nMeny: Inderøysodd med skjenning og ingefærøl!\nDessert: Sviskergrøt m/kaffe\nGratis is til barna!\nVi selger også kake m/kaffe!\nÅpningstid 13.00 – 17.00\nVi tar Vipps og kontant!!!\nHjertelig velkommen!!!
URL:https://ogndal.net/arrangement/sondagsmiddag-bodomheimen-2/
LOCATION:Bodomheimen\, Lustadvegen 6\, Steinkjer\, 7718\, Norge
END:VEVENT
BEGIN:VEVENT
DTSTART;TZID=Europe/Oslo:20230820T130000
DTEND;TZID=Europe/Oslo:20230820T170000
DTSTAMP:20260424T124751
CREATED:20230815T185442Z
LAST-MODIFIED:20230815T185532Z
UID:3052-1692536400-1692550800@ogndal.net
SUMMARY:Søndagsmiddag Bodomheimen
DESCRIPTION:Meny: Kjøttkaker med ertestuing!\nDessert: Semulegryn pudding m/kaffe\n\n\nGratis is til barna!\n\n\nDem selger også kake m/kaffe!\n\n\nÅpningstid 13.00 – 17.00\nDem tar Vipps og kontant!!!
URL:https://ogndal.net/arrangement/sondagsmiddag-bodomheimen/
LOCATION:Bodomheimen\, Lustadvegen 6\, Steinkjer\, 7718\, Norge
ATTACH;FMTTYPE=image/jpeg:https://ogndal.net/wp-content/uploads/2021/06/img_2314-rotated.jpg
END:VEVENT
BEGIN:VEVENT
DTSTART;TZID=Europe/Oslo:20230618T120000
DTEND;TZID=Europe/Oslo:20230618T130000
DTSTAMP:20260424T124751
CREATED:20230612T064603Z
LAST-MODIFIED:20230612T064603Z
UID:2998-1687089600-1687093200@ogndal.net
SUMMARY:Gudstjeneste på Bodomheimen
DESCRIPTION:Gudstjenesten er et samarbeid mellom Ogndal menighet og Bodomheimens venner.\nTor Skogseth blir med på kornett.\nVelkommen til gudstjeneste og hyggelig samvær.\nprest: Harald Nordtug Tveit
URL:https://ogndal.net/arrangement/gudstjeneste-pa-bodomheimen/
LOCATION:Bodomheimen\, Lustadvegen 6\, Steinkjer\, 7718\, Norge
ATTACH;FMTTYPE=image/jpeg:https://ogndal.net/wp-content/uploads/2021/05/2021-05-27-13-46-03.jpg
END:VEVENT
BEGIN:VEVENT
DTSTART;TZID=Europe/Oslo:20220821T130000
DTEND;TZID=Europe/Oslo:20220821T170000
DTSTAMP:20260424T124751
CREATED:20220815T164137Z
LAST-MODIFIED:20220815T164137Z
UID:2258-1661086800-1661101200@ogndal.net
SUMMARY:Søndagsmiddag
DESCRIPTION:Bodomheimen inviterer til søndagsmiddager. \nSe Bodomheimens Facebook-side for meny og mer informasjon.
URL:https://ogndal.net/arrangement/sondagsmiddag/2022-08-21/
LOCATION:Bodomheimen\, Lustadvegen 6\, Steinkjer\, 7718\, Norge
END:VEVENT
BEGIN:VEVENT
DTSTART;TZID=Europe/Oslo:20220614T180000
DTEND;TZID=Europe/Oslo:20220614T200000
DTSTAMP:20260424T124751
CREATED:20220603T201234Z
LAST-MODIFIED:20220603T201234Z
UID:2190-1655229600-1655236800@ogndal.net
SUMMARY:Årsmøte i Bodomheimens venneforening
DESCRIPTION:Vanlige årsmøtesaker.\nHjertelig velkommen
URL:https://ogndal.net/arrangement/arsmote-i-bodomheimens-venneforening/
LOCATION:Bodomheimen\, Lustadvegen 6\, Steinkjer\, 7718\, Norge
ATTACH;FMTTYPE=image/jpeg:https://ogndal.net/wp-content/uploads/2021/05/2021-05-27-13-46-03.jpg
END:VEVENT
END:VCALENDAR