BEGIN:VCALENDAR
VERSION:2.0
PRODID:-//Ogndal.net - ECPv6.15.17.1//NONSGML v1.0//EN
CALSCALE:GREGORIAN
METHOD:PUBLISH
X-ORIGINAL-URL:https://ogndal.net
X-WR-CALDESC:Arrangement for Ogndal.net
REFRESH-INTERVAL;VALUE=DURATION:PT1H
X-Robots-Tag:noindex
X-PUBLISHED-TTL:PT1H
BEGIN:VTIMEZONE
TZID:Europe/Oslo
BEGIN:DAYLIGHT
TZOFFSETFROM:+0100
TZOFFSETTO:+0200
TZNAME:CEST
DTSTART:20230326T010000
END:DAYLIGHT
BEGIN:STANDARD
TZOFFSETFROM:+0200
TZOFFSETTO:+0100
TZNAME:CET
DTSTART:20231029T010000
END:STANDARD
BEGIN:DAYLIGHT
TZOFFSETFROM:+0100
TZOFFSETTO:+0200
TZNAME:CEST
DTSTART:20240331T010000
END:DAYLIGHT
BEGIN:STANDARD
TZOFFSETFROM:+0200
TZOFFSETTO:+0100
TZNAME:CET
DTSTART:20241027T010000
END:STANDARD
BEGIN:DAYLIGHT
TZOFFSETFROM:+0100
TZOFFSETTO:+0200
TZNAME:CEST
DTSTART:20250330T010000
END:DAYLIGHT
BEGIN:STANDARD
TZOFFSETFROM:+0200
TZOFFSETTO:+0100
TZNAME:CET
DTSTART:20251026T010000
END:STANDARD
END:VTIMEZONE
BEGIN:VEVENT
DTSTART;TZID=Europe/Oslo:20241204T190000
DTEND;TZID=Europe/Oslo:20241204T200000
DTSTAMP:20260423T080905
CREATED:20240902T064803Z
LAST-MODIFIED:20241129T163106Z
UID:3536-1733338800-1733342400@ogndal.net
SUMMARY:Lysmessekonsert
DESCRIPTION:Prest: Harald Nordtug Tveit \nPrest: Tine Jøhnk \nOrganist: Liv Marit Valle
URL:https://ogndal.net/arrangement/lysmessekonsert-2/
LOCATION:Henning kirke\, KJERKHENNINGVEGEN 66\, Steinkjer\, 7711
END:VEVENT
END:VCALENDAR