BEGIN:VCALENDAR
VERSION:2.0
PRODID:-//Ogndal.net - ECPv6.15.17.1//NONSGML v1.0//EN
CALSCALE:GREGORIAN
METHOD:PUBLISH
X-WR-CALNAME:Ogndal.net
X-ORIGINAL-URL:https://ogndal.net
X-WR-CALDESC:Arrangement for Ogndal.net
REFRESH-INTERVAL;VALUE=DURATION:PT1H
X-Robots-Tag:noindex
X-PUBLISHED-TTL:PT1H
BEGIN:VTIMEZONE
TZID:Europe/Oslo
BEGIN:DAYLIGHT
TZOFFSETFROM:+0100
TZOFFSETTO:+0200
TZNAME:CEST
DTSTART:20240331T010000
END:DAYLIGHT
BEGIN:STANDARD
TZOFFSETFROM:+0200
TZOFFSETTO:+0100
TZNAME:CET
DTSTART:20241027T010000
END:STANDARD
BEGIN:DAYLIGHT
TZOFFSETFROM:+0100
TZOFFSETTO:+0200
TZNAME:CEST
DTSTART:20250330T010000
END:DAYLIGHT
BEGIN:STANDARD
TZOFFSETFROM:+0200
TZOFFSETTO:+0100
TZNAME:CET
DTSTART:20251026T010000
END:STANDARD
BEGIN:DAYLIGHT
TZOFFSETFROM:+0100
TZOFFSETTO:+0200
TZNAME:CEST
DTSTART:20260329T010000
END:DAYLIGHT
BEGIN:STANDARD
TZOFFSETFROM:+0200
TZOFFSETTO:+0100
TZNAME:CET
DTSTART:20261025T010000
END:STANDARD
BEGIN:DAYLIGHT
TZOFFSETFROM:+0100
TZOFFSETTO:+0200
TZNAME:CEST
DTSTART:20270328T010000
END:DAYLIGHT
BEGIN:STANDARD
TZOFFSETFROM:+0200
TZOFFSETTO:+0100
TZNAME:CET
DTSTART:20271031T010000
END:STANDARD
END:VTIMEZONE
BEGIN:VEVENT
DTSTART;TZID=Europe/Oslo:20260418T110000
DTEND;TZID=Europe/Oslo:20260418T160000
DTSTAMP:20260422T145206
CREATED:20260305T193240Z
LAST-MODIFIED:20260305T193240Z
UID:4192-1776510000-1776528000@ogndal.net
SUMMARY:Ognamartnan 2026
DESCRIPTION:Velkommen til den 17. Ognamartnan på Vålen. Som alltid blir det utstillere og moro for hele familien.\nParkering: kr 50\,- (hele dagen).\nGratis inngang.
URL:https://ogndal.net/arrangement/ognamartnan-2026/
LOCATION:Vålen samfunnshus\, Nordvegen 885\, Steinkjer\, 7718\, Norge
ATTACH;FMTTYPE=image/jpeg:https://ogndal.net/wp-content/uploads/2019/11/ognamartnan-2014-dan-erik.jpg
END:VEVENT
BEGIN:VEVENT
DTSTART;TZID=Europe/Oslo:20260323T200000
DTEND;TZID=Europe/Oslo:20260323T213000
DTSTAMP:20260422T145206
CREATED:20260310T194409Z
LAST-MODIFIED:20260310T202930Z
UID:4198-1774296000-1774301400@ogndal.net
SUMMARY:Generalforsamling i Ognatinget
DESCRIPTION:Generalforsamling i Ognatinget \nVi ønsker deg velkommen til generalforsamling i Ognatinget\nmandag 23.03.26\, kl.20.00\, Vålen Samfunnshus \nVi håper alle stemmeberettigede stiller og deltar i samtalen. Sammen kan vi finne ut av hva vi ønsker at skal skje i bygda vår 😊\nHar du noen ønsker eller forslag til aktiviteter så send de gjerne på\nSMS til Mari – 47293183 i forkant av møtet.\nAndre innkomne saker må være styret i hende senest mandag 17.03.26 \nDet blir enkel servering. \nVel møtt! \nSaksliste\nSak 1: Godkjenning av møteinnkalling\nSak 2: Godkjenning av stemmeberettigede\nSak 3: Valg av møteleder og referent\, og to til å skrive under protokollen\nSak 4: Årsmelding\nSak 5: Regnskap\nSak 6: Planlagte aktiviteter\nSak 7: Valg\n   –	Styre\n   –	Martnaskomité\n   –	Revisorer\nSak 8: Innkomne saker\nSak 9: Eventuelt \nOgnamartnan 18.april. Hold av datoen!
URL:https://ogndal.net/arrangement/generalforsamling-i-ognatiget/
LOCATION:Vålen samfunnshus\, Nordvegen 885\, Steinkjer\, 7718\, Norge
END:VEVENT
BEGIN:VEVENT
DTSTART;TZID=Europe/Oslo:20260319T190000
DTEND;TZID=Europe/Oslo:20260319T200000
DTSTAMP:20260422T145206
CREATED:20260222T085741Z
LAST-MODIFIED:20260222T085741Z
UID:4182-1773946800-1773950400@ogndal.net
SUMMARY:Årsmøte Ogndal Historielag
DESCRIPTION:Ogndal Historielag avholder Årsmøtet 2026 19. mars kl. 19.00 på Vålen Samfunnshus. \nEtter vanlige årsmøtesaker\, blir det servering og kulturelt innslag. Mer info kommer! \nInnkalling og årsmelding blir sendt ut til medlemmene på e-post/post i løpet av uke 9.  \nVelkommen!
URL:https://ogndal.net/arrangement/arsmote-ogndal-historielag-3/
LOCATION:Vålen samfunnshus\, Nordvegen 885\, Steinkjer\, 7718\, Norge
END:VEVENT
BEGIN:VEVENT
DTSTART;TZID=Europe/Oslo:20260206T180000
DTEND;TZID=Europe/Oslo:20260206T200000
DTSTAMP:20260422T145206
CREATED:20260109T181925Z
LAST-MODIFIED:20260109T181925Z
UID:4143-1770400800-1770408000@ogndal.net
SUMMARY:Karneval
DESCRIPTION:Kameratklubben 4H arrangerer karneval for alle medlemmar og bygdefolket! 🍀🤗\nArtige leikar og kåringar!  \nGratis inngang for alle med kostyme\, kr. 50 for alle uten. Kiosksal.  \nVelkommen! 🍀🤗🍀
URL:https://ogndal.net/arrangement/karneval-4/
LOCATION:Vålen samfunnshus\, Nordvegen 885\, Steinkjer\, 7718\, Norge
END:VEVENT
BEGIN:VEVENT
DTSTART;TZID=Europe/Oslo:20260128T113000
DTEND;TZID=Europe/Oslo:20260128T140000
DTSTAMP:20260422T145206
CREATED:20260127T121304Z
LAST-MODIFIED:20260127T121511Z
UID:4160-1769599800-1769608800@ogndal.net
SUMMARY:Minikonsert: "Næsten itj t å tru..!"
DESCRIPTION:Det er mulighet til å kjøpe varm lunsj fra klokken 11:30 – Deretter konsert! \n\nMasse sang\, musikk og allsang\nTvilsomme “lygarhistorier”\nHumor\, kos og trivsel!
URL:https://ogndal.net/arrangement/minikonsert-naesten-itj-t-a-tru/
LOCATION:Vålen samfunnshus\, Nordvegen 885\, Steinkjer\, 7718\, Norge
ATTACH;FMTTYPE=image/jpeg:https://ogndal.net/wp-content/uploads/2021/06/photo_6619535_dji_399_jpg_3893493_0_20216618330_photo_original-2.jpg
END:VEVENT
BEGIN:VEVENT
DTSTART;TZID=Europe/Oslo:20251229T130000
DTEND;TZID=Europe/Oslo:20251229T150000
DTSTAMP:20260422T145206
CREATED:20251202T125112Z
LAST-MODIFIED:20251202T125112Z
UID:4109-1767013200-1767020400@ogndal.net
SUMMARY:Juletrefest på Vålen samfunnshus
DESCRIPTION:5. juledag arrangeres det juletrefest på Vålen samfunnshus. \nServering: Risengrynsgrøt\, kaffe mm. \nLoddsalg \nPris: Gratis inngang \nArrangør: Ognatinget
URL:https://ogndal.net/arrangement/juletrefest-pa-valen-samfunnshus-2/
LOCATION:Vålen samfunnshus\, Nordvegen 885\, Steinkjer\, 7718\, Norge
ATTACH;FMTTYPE=image/jpeg:https://ogndal.net/wp-content/uploads/2022/12/juletrefest.jpg
END:VEVENT
BEGIN:VEVENT
DTSTART;TZID=Europe/Oslo:20251212T180000
DTEND;TZID=Europe/Oslo:20251212T210000
DTSTAMP:20260422T145206
CREATED:20251203T165826Z
LAST-MODIFIED:20251203T165826Z
UID:4118-1765562400-1765573200@ogndal.net
SUMMARY:Filmkveld med lussekattbaking med Kameratklubben 4H
DESCRIPTION:Velkommen til ein koseleg kveld med julefilm og baking av lussekattar med Kameratklubben 4H fredag 12. desember kl 18!  Ta med forkle og innesko\, og gjerne saccosekk/teppe e.l. å sitte/ligge på under filmen. Arrangementet er gratis og ope for barn og unge frå 8 år\, og ein må ikkje vere medlem. Ta med ein venn og kom! Velkommen! 
URL:https://ogndal.net/arrangement/filmkveld-med-lussekattbaking-med-kameratklubben-4h/
LOCATION:Vålen samfunnshus\, Nordvegen 885\, Steinkjer\, 7718\, Norge
ATTACH;FMTTYPE=image/jpeg:https://ogndal.net/wp-content/uploads/2018/11/logo-kameratklubben-4h.jpg
END:VEVENT
BEGIN:VEVENT
DTSTART;TZID=Europe/Oslo:20251205T110000
DTEND;TZID=Europe/Oslo:20251205T130000
DTSTAMP:20260422T145206
CREATED:20251016T083946Z
LAST-MODIFIED:20251026T182933Z
UID:4088-1764932400-1764939600@ogndal.net
SUMMARY:Fredagslunsj på Vålen samfunnshus
DESCRIPTION:Fredagslunsj på Vålen samfunnshus Kl. 11:00\, betaling med Vipps.
URL:https://ogndal.net/arrangement/fredagslunsj-pa-valen-samfunnshus-2/2025-12-05/
LOCATION:Vålen samfunnshus\, Nordvegen 885\, Steinkjer\, 7718\, Norge
END:VEVENT
BEGIN:VEVENT
DTSTART;TZID=Europe/Oslo:20251114T110000
DTEND;TZID=Europe/Oslo:20251114T130000
DTSTAMP:20260422T145206
CREATED:20251016T083946Z
LAST-MODIFIED:20251026T182933Z
UID:4085-1763118000-1763125200@ogndal.net
SUMMARY:Fredagslunsj på Vålen samfunnshus
DESCRIPTION:Fredagslunsj på Vålen samfunnshus Kl. 11:00\, betaling med Vipps.
URL:https://ogndal.net/arrangement/fredagslunsj-pa-valen-samfunnshus-2/2025-11-14/
LOCATION:Vålen samfunnshus\, Nordvegen 885\, Steinkjer\, 7718\, Norge
END:VEVENT
BEGIN:VEVENT
DTSTART;TZID=Europe/Oslo:20251031T110000
DTEND;TZID=Europe/Oslo:20251031T130000
DTSTAMP:20260422T145206
CREATED:20251016T083946Z
LAST-MODIFIED:20251026T182933Z
UID:4083-1761908400-1761915600@ogndal.net
SUMMARY:Fredagslunsj på Vålen samfunnshus
DESCRIPTION:Fredagslunsj på Vålen samfunnshus Kl. 11:00\, betaling med Vipps.
URL:https://ogndal.net/arrangement/fredagslunsj-pa-valen-samfunnshus-2/2025-10-31/
LOCATION:Vålen samfunnshus\, Nordvegen 885\, Steinkjer\, 7718\, Norge
END:VEVENT
BEGIN:VEVENT
DTSTART;TZID=Europe/Oslo:20251026T110000
DTEND;TZID=Europe/Oslo:20251026T130000
DTSTAMP:20260422T145206
CREATED:20251015T072601Z
LAST-MODIFIED:20251016T081927Z
UID:4076-1761476400-1761483600@ogndal.net
SUMMARY:Høstfest 4H
DESCRIPTION:Kameratklubben 4H arrangerer høstfest for medlemmar\, familie og bygdefolk søndag 26. oktober kl 11:00. \nInngang 100 kr per person\, gratis for barn under 15 år. Gratis for medlemmar.
URL:https://ogndal.net/arrangement/hostfest-4h-2/
LOCATION:Vålen samfunnshus\, Nordvegen 885\, Steinkjer\, 7718\, Norge
END:VEVENT
BEGIN:VEVENT
DTSTART;TZID=Europe/Oslo:20251024T200000
DTEND;TZID=Europe/Oslo:20251025T010000
DTSTAMP:20260422T145206
CREATED:20251016T084141Z
LAST-MODIFIED:20251016T084141Z
UID:4089-1761336000-1761354000@ogndal.net
SUMMARY:Pub på Vålen samfunnshus
DESCRIPTION:Pub på Vålen samfunnshus
URL:https://ogndal.net/arrangement/pub-pa-valen-samfunnshus/
LOCATION:Vålen samfunnshus\, Nordvegen 885\, Steinkjer\, 7718\, Norge
END:VEVENT
BEGIN:VEVENT
DTSTART;TZID=Europe/Oslo:20251024T110000
DTEND;TZID=Europe/Oslo:20251024T130000
DTSTAMP:20260422T145206
CREATED:20251016T083946Z
LAST-MODIFIED:20251026T182932Z
UID:4082-1761303600-1761310800@ogndal.net
SUMMARY:Fredagslunsj på Vålen samfunnshus
DESCRIPTION:Fredagslunsj på Vålen samfunnshus Kl. 11:00\, betaling med Vipps.
URL:https://ogndal.net/arrangement/fredagslunsj-pa-valen-samfunnshus-2/2025-10-24/
LOCATION:Vålen samfunnshus\, Nordvegen 885\, Steinkjer\, 7718\, Norge
END:VEVENT
BEGIN:VEVENT
DTSTART;TZID=Europe/Oslo:20251017T110000
DTEND;TZID=Europe/Oslo:20251017T130000
DTSTAMP:20260422T145206
CREATED:20251016T083946Z
LAST-MODIFIED:20251026T182932Z
UID:4081-1760698800-1760706000@ogndal.net
SUMMARY:Fredagslunsj på Vålen samfunnshus
DESCRIPTION:Fredagslunsj på Vålen samfunnshus Kl. 11:00\, betaling med Vipps.
URL:https://ogndal.net/arrangement/fredagslunsj-pa-valen-samfunnshus-2/2025-10-17/
LOCATION:Vålen samfunnshus\, Nordvegen 885\, Steinkjer\, 7718\, Norge
END:VEVENT
BEGIN:VEVENT
DTSTART;TZID=Europe/Oslo:20250510T100000
DTEND;TZID=Europe/Oslo:20250510T163000
DTSTAMP:20260422T145206
CREATED:20250424T073921Z
LAST-MODIFIED:20250424T073921Z
UID:3922-1746871200-1746894600@ogndal.net
SUMMARY:Verdens aktivitetsdag 2025
DESCRIPTION:PROGRAM  \nVERDENS AKTIVITETSDAG 2025 markeres med arrangement den 10. mai  på VÅLEN Samfunnshus. \nArrangører: Pensjonistforbundets lag i Steinkjer med \nOgndal pensjonistlag som arrangør. \n  \nPÅMELDING med frist: 28. april skal skje til leder i hvert Pensjonistlag.  \nSteinkjer P-lag: Gunnar Aftret Tlf/Sms: 98637819 \nSparbu P-lag: Ester M. Stølan: Tlf/Sms: 90703399 \nMalm P-lag: Knut Ralfsen: Tlf/Sms: 97167063 \nStod P-lag: Arvid Hatling: Tlf/Sms: 46442233 \nKvam P-lag: Einar Aal: Tlf/Sms: 90084652 \nOgndal P-lag: Solveig M. Rosø. – Tlf/SMS til 97581556 eller Ole Jakob Sørensen. – Tlf/SMS 91804899 \nBETALING: Kr. 200 pr pers. til VIPPS: 724630 eller  \nBankkonto: 4212 2626568 – – HUSK å oppgi NAVN.  \nKontant ved frammøte er også mulig  \nVi har en kapasitetsbegrensning på ca. 175 personer – så for påmeldingene gjelder prinsippet om «Først te mølla – etc». \nLikevel – som ledd i mulig medlemsverving: Ta gjerne med din egen gjest til arrangementet. \n  \nTRANSPORT: ORDNES AV DEN ENKELTE LAG eller det enkelte lag.  \n  \n  \nPROGRAM: \nKl. 1000 – 1030. Frammøte – Vålen samfunnshus – Kaffe med noe å bite i. \n\nBetaling for de som ikke har forhåndsbetalt og loddutdeling til alle. \n\nKl. 1030 –1040: Sang: «Kom mai du skjønne milde» -Musikk: Jostein Prestmo/«Stratos». \nOle Jakob Sørensen: Velkommen – Kort info om Pensjonistforbundet \nKl. 1040: Bjørn Arild Gram – Betraktninger fra perioden som Forsvarsminister i en urolig tid – nå etterpå – og framover. \nKl. 1120: Underholdning med STRATOS. \nKl. 1130: Ogndalshistorikk – Astrid Skogseth og Leif Arne Sæheim: Om Hollåsfeltet – En satsing på oppbygging av landbruket og bosetting i dalen.  \nKl. 1200: Vålaklang med «Stratos». \nKl. 1215: Servering – Inne og ute ved grillen/gapahuken (Varmmat). \n\nLunch: Inneservering: Karbonadesmørbrød etc. \nUteservering ved Gapahuken: Grillpølser. \nDrikke: Kaffe og mineralvann – saft og vatn.  \n\nKl. 1300 – 1400: AKTIVITETSTIME i området. \n\nLITT LETT MUSIKK INNE\nDe som vil mingler omkring og prater ved bordene ell.\nHesteskokasting \nQUIS: Rundløype med forskjellige spørsmål om natur og annet.\n\nKl. 1415: Kari Helen Alstad. Informasjon fra og om arbeidet i ELDRES RÅD \nKl. 1430: Underholdning: «Stratos» varmer opp til: \nKl. 1445: Dans – Ogndal Dans og Swing – og dans for den som vil.  \nKl. 1515: Pizza – Kaffe/Mineralvann Etc.  \n\n«Stratos» med litt bakgrunnsmusikk \n\nCa. Kl. 1600: Trekning av lotteri og vinner av konkurransene  \nCa. Kl. 1615: Sang: «No livnar det i lundar» m. Stratos».  Noen Avslutningsord  \nCa. 1630: Heimreise  \n  \nfoto: https://hole.foreningsportal.no/hendelse?Id=1767947
URL:https://ogndal.net/arrangement/verdens-aktivitetsdag-2025/
LOCATION:Vålen samfunnshus\, Nordvegen 885\, Steinkjer\, 7718\, Norge
ATTACH;FMTTYPE=image/png:https://ogndal.net/wp-content/uploads/2025/04/228172.png
END:VEVENT
BEGIN:VEVENT
DTSTART;TZID=Europe/Oslo:20250430T110000
DTEND;TZID=Europe/Oslo:20250430T130000
DTSTAMP:20260422T145206
CREATED:20250425T113911Z
LAST-MODIFIED:20250425T113911Z
UID:3923-1746010800-1746018000@ogndal.net
SUMMARY:Konsert med Svein Strugstad
DESCRIPTION:Alle er velkommen!\nEtter konserten serveres det lunsj (60kr)
URL:https://ogndal.net/arrangement/konsert-med-svein-strugstad/
LOCATION:Vålen samfunnshus\, Nordvegen 885\, Steinkjer\, 7718\, Norge
END:VEVENT
BEGIN:VEVENT
DTSTART;TZID=Europe/Oslo:20250405T190000
DTEND;TZID=Europe/Oslo:20250406T010000
DTSTAMP:20260422T145206
CREATED:20250227T071000Z
LAST-MODIFIED:20250227T071000Z
UID:3862-1743879600-1743901200@ogndal.net
SUMMARY:Ognamartnadans
DESCRIPTION:Øvre Ogndal ungdomslag invitere te ny martnasfest!\nDet vil bli live musikk og muligheta for dans\, salg av øl\, vin\, cider\, brus og meir.\nSalg av mat vil det også bli utover kvelden.\nArrangementet e gratis for medlemma i ungdomslaget og det vil bli mulighet for å meld sæ inn før inngang.\nInngang koste 100kr om man ikke e medlem.\nSalg av billetta skjer i døra.\nVi glede oss å håpe på like bra oppmøte som i fjor!\nFølg med arrangementet på facebook
URL:https://ogndal.net/arrangement/ognamartnadans/
LOCATION:Vålen samfunnshus\, Nordvegen 885\, Steinkjer\, 7718\, Norge
END:VEVENT
BEGIN:VEVENT
DTSTART;TZID=Europe/Oslo:20250405T110000
DTEND;TZID=Europe/Oslo:20250405T160000
DTSTAMP:20260422T145206
CREATED:20241127T201413Z
LAST-MODIFIED:20241127T201413Z
UID:3668-1743850800-1743868800@ogndal.net
SUMMARY:Ognamartnan 2025
DESCRIPTION:Velkommen til den 16. Ognamartnan på Vålen. Som alltid blir det utstillere og moro for hele familien.Parkering: kr 50\,- (hele dagen).Gratis inngang.\n\nVi har åpnet for påmelding av utstillere. Ta kontakt med Jorunn på jorunnhg@icloud.com (tlf. 930 82 123) hvis du ønsker mer informasjon eller link til registreringsskjema.
URL:https://ogndal.net/arrangement/ognamartnan-2025/
LOCATION:Vålen samfunnshus\, Nordvegen 885\, Steinkjer\, 7718\, Norge
ATTACH;FMTTYPE=image/jpeg:https://ogndal.net/wp-content/uploads/2019/11/ognamartnan-2014-dan-erik.jpg
END:VEVENT
BEGIN:VEVENT
DTSTART;TZID=Europe/Oslo:20250404T110000
DTEND;TZID=Europe/Oslo:20250404T130000
DTSTAMP:20260422T145206
CREATED:20250106T180247Z
LAST-MODIFIED:20250106T180247Z
UID:3793-1743764400-1743771600@ogndal.net
SUMMARY:Fredagslunsj Vålen samfunnshus
DESCRIPTION:Fredagslunsj på Vålen samfunnshus Kl. 11:00\, betaling med Vipps.
URL:https://ogndal.net/arrangement/fredagslunsj-valen-samfunnshus-3/2025-04-04/
LOCATION:Vålen samfunnshus\, Nordvegen 885\, Steinkjer\, 7718\, Norge
END:VEVENT
BEGIN:VEVENT
DTSTART;TZID=Europe/Oslo:20250328T110000
DTEND;TZID=Europe/Oslo:20250328T130000
DTSTAMP:20260422T145206
CREATED:20250106T180247Z
LAST-MODIFIED:20250106T180247Z
UID:3792-1743159600-1743166800@ogndal.net
SUMMARY:Fredagslunsj Vålen samfunnshus
DESCRIPTION:Fredagslunsj på Vålen samfunnshus Kl. 11:00\, betaling med Vipps.
URL:https://ogndal.net/arrangement/fredagslunsj-valen-samfunnshus-3/2025-03-28/
LOCATION:Vålen samfunnshus\, Nordvegen 885\, Steinkjer\, 7718\, Norge
END:VEVENT
BEGIN:VEVENT
DTSTART;TZID=Europe/Oslo:20250321T110000
DTEND;TZID=Europe/Oslo:20250321T130000
DTSTAMP:20260422T145206
CREATED:20250106T180247Z
LAST-MODIFIED:20250106T180247Z
UID:3791-1742554800-1742562000@ogndal.net
SUMMARY:Fredagslunsj Vålen samfunnshus
DESCRIPTION:Fredagslunsj på Vålen samfunnshus Kl. 11:00\, betaling med Vipps.
URL:https://ogndal.net/arrangement/fredagslunsj-valen-samfunnshus-3/2025-03-21/
LOCATION:Vålen samfunnshus\, Nordvegen 885\, Steinkjer\, 7718\, Norge
END:VEVENT
BEGIN:VEVENT
DTSTART;TZID=Europe/Oslo:20250317T193000
DTEND;TZID=Europe/Oslo:20250317T213000
DTSTAMP:20260422T145206
CREATED:20250217T205737Z
LAST-MODIFIED:20250217T205737Z
UID:3842-1742239800-1742247000@ogndal.net
SUMMARY:Årsmøte Ogndal IL 2025
DESCRIPTION:Årsmøte Ogndal Idrettslag \nDet avholdes årsmøte på Vålen samfunnshus\, mandag 17. mars kl. 19.30. \nSaker utover ordinære årsmøtesaker meldes styret innen 4. mars \nTil behandling: \n\nLovfestede saker\, herunder valg\nInnkomne saker
URL:https://ogndal.net/arrangement/arsmote-ogndal-il-2025/
LOCATION:Vålen samfunnshus\, Nordvegen 885\, Steinkjer\, 7718\, Norge
END:VEVENT
BEGIN:VEVENT
DTSTART;TZID=Europe/Oslo:20250314T110000
DTEND;TZID=Europe/Oslo:20250314T130000
DTSTAMP:20260422T145206
CREATED:20250106T180247Z
LAST-MODIFIED:20250106T180247Z
UID:3790-1741950000-1741957200@ogndal.net
SUMMARY:Fredagslunsj Vålen samfunnshus
DESCRIPTION:Fredagslunsj på Vålen samfunnshus Kl. 11:00\, betaling med Vipps.
URL:https://ogndal.net/arrangement/fredagslunsj-valen-samfunnshus-3/2025-03-14/
LOCATION:Vålen samfunnshus\, Nordvegen 885\, Steinkjer\, 7718\, Norge
END:VEVENT
BEGIN:VEVENT
DTSTART;TZID=Europe/Oslo:20250312T200000
DTEND;TZID=Europe/Oslo:20250312T210000
DTSTAMP:20260422T145206
CREATED:20250224T064316Z
LAST-MODIFIED:20250224T064353Z
UID:3850-1741809600-1741813200@ogndal.net
SUMMARY:Årsmøte i Vålen samfunnshus
DESCRIPTION:Det blir årsmøte i Vålen samfunnshus SA 12. Mars kl 20:00. Framlegg til styret må være styre i hende seinest 7. Mars.\nAlle andelseiere har stemmerett.\nÅrsmøtesaker:\n– Valg av møteleder og 2 til å signere protokoll\n– Godkjenning av innkalling og saksliste\n– Styrets årsberetning\n– Regnskap og merknader fra revisor\n– Budsjett\n– Valg\n– Andre saker\n– Saker til orientering\nSakspapirer blir slått opp på oppslagstavla i samfunnshuset.
URL:https://ogndal.net/arrangement/arsmote-i-valen-samfunnshus-3/
LOCATION:Vålen samfunnshus\, Nordvegen 885\, Steinkjer\, 7718\, Norge
ATTACH;FMTTYPE=image/jpeg:https://ogndal.net/wp-content/uploads/2021/06/photo_6619546_dji_410_jpg_4129927_0_202166183422_photo_original.jpg
END:VEVENT
BEGIN:VEVENT
DTSTART;TZID=Europe/Oslo:20250307T110000
DTEND;TZID=Europe/Oslo:20250307T130000
DTSTAMP:20260422T145206
CREATED:20250106T180247Z
LAST-MODIFIED:20250106T180247Z
UID:3789-1741345200-1741352400@ogndal.net
SUMMARY:Fredagslunsj Vålen samfunnshus
DESCRIPTION:Fredagslunsj på Vålen samfunnshus Kl. 11:00\, betaling med Vipps.
URL:https://ogndal.net/arrangement/fredagslunsj-valen-samfunnshus-3/2025-03-07/
LOCATION:Vålen samfunnshus\, Nordvegen 885\, Steinkjer\, 7718\, Norge
END:VEVENT
BEGIN:VEVENT
DTSTART;TZID=Europe/Oslo:20250228T110000
DTEND;TZID=Europe/Oslo:20250228T130000
DTSTAMP:20260422T145206
CREATED:20250106T180247Z
LAST-MODIFIED:20250106T180247Z
UID:3788-1740740400-1740747600@ogndal.net
SUMMARY:Fredagslunsj Vålen samfunnshus
DESCRIPTION:Fredagslunsj på Vålen samfunnshus Kl. 11:00\, betaling med Vipps.
URL:https://ogndal.net/arrangement/fredagslunsj-valen-samfunnshus-3/2025-02-28/
LOCATION:Vålen samfunnshus\, Nordvegen 885\, Steinkjer\, 7718\, Norge
END:VEVENT
BEGIN:VEVENT
DTSTART;TZID=Europe/Oslo:20250221T110000
DTEND;TZID=Europe/Oslo:20250221T130000
DTSTAMP:20260422T145206
CREATED:20250106T180247Z
LAST-MODIFIED:20250106T180247Z
UID:3787-1740135600-1740142800@ogndal.net
SUMMARY:Fredagslunsj Vålen samfunnshus
DESCRIPTION:Fredagslunsj på Vålen samfunnshus Kl. 11:00\, betaling med Vipps.
URL:https://ogndal.net/arrangement/fredagslunsj-valen-samfunnshus-3/2025-02-21/
LOCATION:Vålen samfunnshus\, Nordvegen 885\, Steinkjer\, 7718\, Norge
END:VEVENT
BEGIN:VEVENT
DTSTART;TZID=Europe/Oslo:20250214T110000
DTEND;TZID=Europe/Oslo:20250214T130000
DTSTAMP:20260422T145206
CREATED:20250106T180247Z
LAST-MODIFIED:20250106T180247Z
UID:3786-1739530800-1739538000@ogndal.net
SUMMARY:Fredagslunsj Vålen samfunnshus
DESCRIPTION:Fredagslunsj på Vålen samfunnshus Kl. 11:00\, betaling med Vipps.
URL:https://ogndal.net/arrangement/fredagslunsj-valen-samfunnshus-3/2025-02-14/
LOCATION:Vålen samfunnshus\, Nordvegen 885\, Steinkjer\, 7718\, Norge
END:VEVENT
BEGIN:VEVENT
DTSTART;TZID=Europe/Oslo:20250131T110000
DTEND;TZID=Europe/Oslo:20250131T130000
DTSTAMP:20260422T145206
CREATED:20250106T180247Z
LAST-MODIFIED:20250106T180247Z
UID:3784-1738321200-1738328400@ogndal.net
SUMMARY:Fredagslunsj Vålen samfunnshus
DESCRIPTION:Fredagslunsj på Vålen samfunnshus Kl. 11:00\, betaling med Vipps.
URL:https://ogndal.net/arrangement/fredagslunsj-valen-samfunnshus-3/2025-01-31/
LOCATION:Vålen samfunnshus\, Nordvegen 885\, Steinkjer\, 7718\, Norge
END:VEVENT
BEGIN:VEVENT
DTSTART;TZID=Europe/Oslo:20250124T110000
DTEND;TZID=Europe/Oslo:20250124T130000
DTSTAMP:20260422T145206
CREATED:20250106T180247Z
LAST-MODIFIED:20250106T180247Z
UID:3783-1737716400-1737723600@ogndal.net
SUMMARY:Fredagslunsj Vålen samfunnshus
DESCRIPTION:Fredagslunsj på Vålen samfunnshus Kl. 11:00\, betaling med Vipps.
URL:https://ogndal.net/arrangement/fredagslunsj-valen-samfunnshus-3/2025-01-24/
LOCATION:Vålen samfunnshus\, Nordvegen 885\, Steinkjer\, 7718\, Norge
END:VEVENT
END:VCALENDAR